BEGIN:VCALENDAR
VERSION:2.0
PRODID:-//North Shore Neighbourhood House - ECPv6.15.4//NONSGML v1.0//EN
CALSCALE:GREGORIAN
METHOD:PUBLISH
X-WR-CALNAME:North Shore Neighbourhood House
X-ORIGINAL-URL:https://www.nsnh.bc.ca
X-WR-CALDESC:Events for North Shore Neighbourhood House
REFRESH-INTERVAL;VALUE=DURATION:PT1H
X-Robots-Tag:noindex
X-PUBLISHED-TTL:PT1H
BEGIN:VTIMEZONE
TZID:America/Vancouver
BEGIN:DAYLIGHT
TZOFFSETFROM:-0800
TZOFFSETTO:-0700
TZNAME:PDT
DTSTART:20260308T100000
END:DAYLIGHT
BEGIN:STANDARD
TZOFFSETFROM:-0700
TZOFFSETTO:-0800
TZNAME:PST
DTSTART:20261101T090000
END:STANDARD
END:VTIMEZONE
BEGIN:VEVENT
DTSTART;TZID=America/Vancouver:20260421T183000
DTEND;TZID=America/Vancouver:20260421T194500
DTSTAMP:20260421T150821
CREATED:20260303T173312Z
LAST-MODIFIED:20260304T174100Z
UID:10007583-1776796200-1776800700@www.nsnh.bc.ca
SUMMARY:Mindfulness Meditation | Adults/Seniors | Tue 6:30-7:45pm | No Class June 9
DESCRIPTION:Mindfulness meditation is an evidence-based practice that helps to manage stress\, build resilience\, and enhance well-being. This supportive and experiential program will introduce you to the basics of mindfulness practice. The various guided practices will include: breath-focused meditation\, body scan\, mindfulness through our senses\, mindful self-compassion\, and mindful movement. You will also learn simple mindfulness techniques that you can integrate into your day-to-day life.\nWhether you are brand new to meditation or are seeking a supportive community for your mindfulness practice\, all are welcome to join. \nInstructor:  Patricia
URL:https://www.nsnh.bc.ca/activity/mindfulness-meditation-adults-seniors-tue-630-745pm/2026-04-21/
LOCATION:NSNH – Inman Room
CATEGORIES:Adults,Seniors
ORGANIZER;CN="Christine Cameron":MAILTO:cpoole@nsnh.bc.ca
END:VEVENT
BEGIN:VEVENT
DTSTART;TZID=America/Vancouver:20260423T163000
DTEND;TZID=America/Vancouver:20260423T170000
DTSTAMP:20260421T150821
CREATED:20260303T173713Z
LAST-MODIFIED:20260319T225503Z
UID:10007281-1776961800-1776963600@www.nsnh.bc.ca
SUMMARY:Creative Ballet | 2 & 3 y | Thu 430-5:00pm
DESCRIPTION:Dance yourself silly in this fun friendly class.  Ballet basics and creative movements will be explored. \nInstructor:  Svetlana
URL:https://www.nsnh.bc.ca/activity/creative-ballet-2-3yr-thu-430-500pm/2026-04-23/
LOCATION:NSNH – Inman Room
CATEGORIES:Children
ORGANIZER;CN="Christine Cameron":MAILTO:cpoole@nsnh.bc.ca
END:VEVENT
BEGIN:VEVENT
DTSTART;TZID=America/Vancouver:20260423T171500
DTEND;TZID=America/Vancouver:20260423T174500
DTSTAMP:20260421T150821
CREATED:20260303T173704Z
LAST-MODIFIED:20260319T225416Z
UID:10007292-1776964500-1776966300@www.nsnh.bc.ca
SUMMARY:Creative Ballet | 4 to 5 y | Thu 5:15-5:34pm
DESCRIPTION:Dance yourself silly in this fun friendly class.  Bellet basics and creative movement will be explored. \nInstructor:  Svetlana \n 
URL:https://www.nsnh.bc.ca/activity/creative-ballet-4-to-5-yrs-thu-515-534pm/2026-04-23/
LOCATION:NSNH – Inman Room
CATEGORIES:Children
ORGANIZER;CN="Christine Cameron":MAILTO:cpoole@nsnh.bc.ca
END:VEVENT
BEGIN:VEVENT
DTSTART;TZID=America/Vancouver:20260423T182000
DTEND;TZID=America/Vancouver:20260423T191500
DTSTAMP:20260421T150821
CREATED:20260303T173636Z
LAST-MODIFIED:20260303T173636Z
UID:10007257-1776968400-1776971700@www.nsnh.bc.ca
SUMMARY:Tai Chi Fusion | Intermediate | Thu 6:20-7:15pm
DESCRIPTION:Designed for intermediate students with experience in Tai Chi and Qigong. This class combines internal strengthening exercises with more complex Tai Chi choreography to enhance fluidity\, focus\, and skill. It’s a fun\, engaging challenge for those ready to continue training in these health and wellness exercises. \nInstructor: Sifu Josie
URL:https://www.nsnh.bc.ca/activity/tai-chi-fusion-intermediate-thu-620-715pm/2026-04-23/
LOCATION:NSNH – Inman Room
CATEGORIES:Adults,Seniors
ORGANIZER;CN="Christine Cameron":MAILTO:cpoole@nsnh.bc.ca
END:VEVENT
BEGIN:VEVENT
DTSTART;TZID=America/Vancouver:20260425T100000
DTEND;TZID=America/Vancouver:20260425T110000
DTSTAMP:20260421T150821
CREATED:20260303T173526Z
LAST-MODIFIED:20260421T163819Z
UID:10007780-1777111200-1777114800@www.nsnh.bc.ca
SUMMARY:Little Amigos | 3 to 5 y | Sat 11:00-12:00am
DESCRIPTION:Spanish Classes for Preschoolers.  An ideal space for 3 to 5 year olds and parents or their caregivers to learn one of the top 3 languages worldwide!  Engage in weekly classes to make new friends and have lots of fun while learning Spanish. \nInstructor:  Ana Maria
URL:https://www.nsnh.bc.ca/activity/little-amigos-3-to-5-y-sat-1100-1200am/2026-04-25/
LOCATION:NSNH – Inman Room
CATEGORIES:Children,Families
ORGANIZER;CN="Christine Cameron":MAILTO:cpoole@nsnh.bc.ca
END:VEVENT
BEGIN:VEVENT
DTSTART;TZID=America/Vancouver:20260427T173000
DTEND;TZID=America/Vancouver:20260427T183000
DTSTAMP:20260421T150821
CREATED:20260319T211737Z
LAST-MODIFIED:20260319T224957Z
UID:10007660-1777311000-1777314600@www.nsnh.bc.ca
SUMMARY:Group Guitar Lessons | Intermediate Level | Teen | Mon 5:30-6:30pm | No Class May 18 & Jun 15
DESCRIPTION:This is semi-private lessons for prerequisite students from the winter Session.  \nTake your guitar playing to the next level! In this class\, teens will expand their chord knowledge\, develop rhythm skills\, and learn how to accompany their own singing. We’ll dive into tablature reading\, explore basic music theory\, and apply it all to playing rock\, pop\, and contemporary songs. Perfect for players who know the basics and are ready to grow their skills in a fun\, collaborative environment.  Instructor:  JR
URL:https://www.nsnh.bc.ca/activity/group-guitar-lessons-intermediate-level-teen-mon-530-630pm-no-class-may-18-jun-15/2026-04-27/
LOCATION:NSNH – Inman Room
CATEGORIES:Youth
ORGANIZER;CN="Christine Cameron":MAILTO:cpoole@nsnh.bc.ca
END:VEVENT
BEGIN:VEVENT
DTSTART;TZID=America/Vancouver:20260427T184500
DTEND;TZID=America/Vancouver:20260427T194500
DTSTAMP:20260421T150821
CREATED:20260303T173407Z
LAST-MODIFIED:20260303T173407Z
UID:10007150-1777315500-1777319100@www.nsnh.bc.ca
SUMMARY:Group Ukulele Lessons | Intermediate | Adults | Mon 6:45-7:45pm | No class May 18 & Jun 15
DESCRIPTION:This fun and supportive class is for adult learners with some prior ukulele experience who are ready to grow. You’ll develop rhythm skills\, learn to sing while you play\, and explore tablature and basic music theory. Together\, we’ll expand our song repertoire across a variety of styles\, with plenty of room for student song suggestions. Each session includes ensemble playing\, helping you deepen your musicality while being part of a creative\, welcoming community. \nInstructor:  JR
URL:https://www.nsnh.bc.ca/activity/group-ukulele-lessons-intermediate-adults-mon-645-745pm-no-class-may-18-jun-15/2026-04-27/
LOCATION:NSNH – Inman Room
CATEGORIES:Adults
ORGANIZER;CN="Christine Cameron":MAILTO:cpoole@nsnh.bc.ca
END:VEVENT
END:VCALENDAR