BEGIN:VCALENDAR
VERSION:2.0
PRODID:-//North Shore Neighbourhood House - ECPv6.15.4//NONSGML v1.0//EN
CALSCALE:GREGORIAN
METHOD:PUBLISH
X-ORIGINAL-URL:https://www.nsnh.bc.ca
X-WR-CALDESC:Events for North Shore Neighbourhood House
REFRESH-INTERVAL;VALUE=DURATION:PT1H
X-Robots-Tag:noindex
X-PUBLISHED-TTL:PT1H
BEGIN:VTIMEZONE
TZID:America/Vancouver
BEGIN:DAYLIGHT
TZOFFSETFROM:-0800
TZOFFSETTO:-0700
TZNAME:PDT
DTSTART:20250309T100000
END:DAYLIGHT
BEGIN:STANDARD
TZOFFSETFROM:-0700
TZOFFSETTO:-0800
TZNAME:PST
DTSTART:20251102T090000
END:STANDARD
BEGIN:DAYLIGHT
TZOFFSETFROM:-0800
TZOFFSETTO:-0700
TZNAME:PDT
DTSTART:20260308T100000
END:DAYLIGHT
BEGIN:STANDARD
TZOFFSETFROM:-0700
TZOFFSETTO:-0800
TZNAME:PST
DTSTART:20261101T090000
END:STANDARD
END:VTIMEZONE
BEGIN:VEVENT
DTSTART;TZID=America/Vancouver:20260421T130000
DTEND;TZID=America/Vancouver:20260421T153000
DTSTAMP:20260422T051520
CREATED:20260302T205816Z
LAST-MODIFIED:20260302T205816Z
UID:10007393-1776776400-1776785400@www.nsnh.bc.ca
SUMMARY:Acrylic Painting | All Levels | Tue 1-3:30pm
DESCRIPTION:Create exciting art pieces using different art techniques and a variety of mediums. You will improve your technique through demonstrations and one-on-one instruction.
URL:https://www.nsnh.bc.ca/activity/acrylic-painting-all-levels-tue-1-330pm/2026-04-21/
LOCATION:JBCC: Art Studio\, 145 W 1st St\, North Vancouver\, BC\, V7M 1B1\, Canada
CATEGORIES:Seniors
ATTACH;FMTTYPE=image/jpeg:https://www.nsnh.bc.ca/wp-content/uploads/2026/02/IMG_5011-scaled.jpeg
ORGANIZER;CN="Tooka Hashemi":MAILTO:seniors@nsnh.bc.ca
END:VEVENT
BEGIN:VEVENT
DTSTART;TZID=America/Vancouver:20260421T130000
DTEND;TZID=America/Vancouver:20260421T150000
DTSTAMP:20260422T051520
CREATED:20260302T205816Z
LAST-MODIFIED:20260302T205816Z
UID:10007330-1776776400-1776783600@www.nsnh.bc.ca
SUMMARY:Drawing Beginner | Mon 1-3pm | No Class May 18
DESCRIPTION:This is an introduction to the art of drawing. Formal elements of line\, value\, shape\, texture and space are taught individually and in a group setting. Curriculum includes drawing from direct observation. Bring a pencil and paper to the first class.
URL:https://www.nsnh.bc.ca/activity/drawing-beginner-mon-1-3pm-no-class-may-18/2026-04-21/
LOCATION:JBCC: Art Studio\, 145 W 1st St\, North Vancouver\, BC\, V7M 1B1\, Canada
CATEGORIES:Seniors
ATTACH;FMTTYPE=image/jpeg:https://www.nsnh.bc.ca/wp-content/uploads/2026/02/Drawing.jpg
ORGANIZER;CN="Tooka Hashemi":MAILTO:seniors@nsnh.bc.ca
END:VEVENT
BEGIN:VEVENT
DTSTART;TZID=America/Vancouver:20260421T123000
DTEND;TZID=America/Vancouver:20260421T133000
DTSTAMP:20260422T051520
CREATED:20260302T205817Z
LAST-MODIFIED:20260326T183715Z
UID:10007516-1776774600-1776778200@www.nsnh.bc.ca
SUMMARY:Chair Yoga | Tue 12:30-1:30pm
DESCRIPTION:This gentle and accessible class is designed for older adults of all mobility levels. Using a chair for support\, participants will practice seated and standing poses to improve flexibility\, balance\, and strength. The class also includes breathing exercises and relaxation techniques to promote overall well-being and reduce stress. No prior yoga experience is needed.
URL:https://www.nsnh.bc.ca/activity/chair-yoga-tue-1230-130pm/2026-04-21/
LOCATION:JBCC: Anchor Room\, 145 W 1st St\, North Vancouver\, BC\, V7M 1B1\, Canada
CATEGORIES:Seniors
ATTACH;FMTTYPE=image/jpeg:https://www.nsnh.bc.ca/wp-content/uploads/2026/03/Chair-Yoga.jpg
ORGANIZER;CN="Tooka Hashemi":MAILTO:seniors@nsnh.bc.ca
END:VEVENT
BEGIN:VEVENT
DTSTART;TZID=America/Vancouver:20260421T110000
DTEND;TZID=America/Vancouver:20260421T120000
DTSTAMP:20260422T051520
CREATED:20260302T205818Z
LAST-MODIFIED:20260302T205818Z
UID:10007480-1776769200-1776772800@www.nsnh.bc.ca
SUMMARY:Osteofit #2 | Tue 11am-12pm
DESCRIPTION:This fall prevention program for participants with no experience focuses on techniques to help improve muscle strength\, bone health\, joint flexibility\, posture\, and stability. It includes functional movements\, agility activities\, resistance training\, and stretches. The Osteofit program is suitable for those with arthritis\, osteoporosis\, and those at risk of falls and fractures.
URL:https://www.nsnh.bc.ca/activity/osteofit-2-tue-11am-12pm/2026-04-21/
LOCATION:JBCC: Anchor Room\, 145 W 1st St\, North Vancouver\, BC\, V7M 1B1\, Canada
CATEGORIES:Seniors
ATTACH;FMTTYPE=image/jpeg:https://www.nsnh.bc.ca/wp-content/uploads/2026/02/J-Osteofit-2-1-scaled.jpg
ORGANIZER;CN="Tooka Hashemi":MAILTO:seniors@nsnh.bc.ca
END:VEVENT
BEGIN:VEVENT
DTSTART;TZID=America/Vancouver:20260421T100000
DTEND;TZID=America/Vancouver:20260421T123000
DTSTAMP:20260422T051520
CREATED:20260302T205816Z
LAST-MODIFIED:20260302T205816Z
UID:10007312-1776765600-1776774600@www.nsnh.bc.ca
SUMMARY:Watercolor Exploration #2 | Tue 10am -12:30pm
DESCRIPTION:Open to all artistic levels. Learn the methods\, materials and expressive potential of the watercolor medium. Basic techniques such as washes\, wet on wet and dry brush will be explored individually and through group discussions. Background in drawing is required.
URL:https://www.nsnh.bc.ca/activity/watercolor-exploration-2-tue-10am-1230pm/2026-04-21/
LOCATION:JBCC: Art Studio\, 145 W 1st St\, North Vancouver\, BC\, V7M 1B1\, Canada
CATEGORIES:Seniors
ATTACH;FMTTYPE=image/avif:https://www.nsnh.bc.ca/wp-content/uploads/2025/02/photo-1561559679-ee3af236f671-scaled.avif
ORGANIZER;CN="Tooka Hashemi":MAILTO:seniors@nsnh.bc.ca
END:VEVENT
BEGIN:VEVENT
DTSTART;TZID=America/Vancouver:20260421T090000
DTEND;TZID=America/Vancouver:20260421T103000
DTSTAMP:20260422T051520
CREATED:20260302T205818Z
LAST-MODIFIED:20260302T205818Z
UID:10007405-1776762000-1776767400@www.nsnh.bc.ca
SUMMARY:Spanish Level 1 | Intermediate | Tue 9-10:30am
DESCRIPTION:This class is ideal for seniors who have some basic knowledge of Spanish and want to build on their skills. You’ll expand your vocabulary\, improve your grammar\, and gain confidence in speaking and understanding Spanish in everyday situations. Lessons include conversation practice\, listening exercises\, and interactive activities. Enjoy learning in a supportive and engaging environment!
URL:https://www.nsnh.bc.ca/activity/spanish-level-1-intermediate-tue-9-1030am/2026-04-21/
LOCATION:JBCC: Anchor Room\, 145 W 1st St\, North Vancouver\, BC\, V7M 1B1\, Canada
CATEGORIES:Seniors
ATTACH;FMTTYPE=image/jpeg:https://www.nsnh.bc.ca/wp-content/uploads/2026/02/Spanish-Spring.jpg
ORGANIZER;CN="Tooka Hashemi":MAILTO:seniors@nsnh.bc.ca
END:VEVENT
BEGIN:VEVENT
DTSTART;TZID=America/Vancouver:20260420T124500
DTEND;TZID=America/Vancouver:20260420T134500
DTSTAMP:20260422T051520
CREATED:20260302T205816Z
LAST-MODIFIED:20260302T205816Z
UID:10007239-1776689100-1776692700@www.nsnh.bc.ca
SUMMARY:Osteofit #1 | Mon 12:45-1:45pm | No Class May 18
DESCRIPTION:This fall prevention program for participants with no experience focuses on techniques to help improve muscle strength\, bone health\, joint flexibility\, posture\, and stability. It includes functional movements\, agility activities\, resistance training\, and stretches. The Osteofit program is suitable for those with arthritis\, osteoporosis\, and those at risk of falls and fractures.
URL:https://www.nsnh.bc.ca/activity/osteofit-1-mon-1245-145pm-no-class-may-18/2026-04-20/
LOCATION:JBCC: Art Studio\, 145 W 1st St\, North Vancouver\, BC\, V7M 1B1\, Canada
CATEGORIES:Seniors
ATTACH;FMTTYPE=image/jpeg:https://www.nsnh.bc.ca/wp-content/uploads/2025/03/pexels-yankrukov-6815693-scaled.jpg
ORGANIZER;CN="Tooka Hashemi":MAILTO:seniors@nsnh.bc.ca
END:VEVENT
BEGIN:VEVENT
DTSTART;TZID=America/Vancouver:20260420T100000
DTEND;TZID=America/Vancouver:20260420T123000
DTSTAMP:20260422T051520
CREATED:20260302T205817Z
LAST-MODIFIED:20260302T205817Z
UID:10007302-1776679200-1776688200@www.nsnh.bc.ca
SUMMARY:Watercolor Exploration #1 | Mon 10am -12:30pm | No Class May 18
DESCRIPTION:Open to all artistic levels. Learn the methods\, materials and expressive potential of the watercolor medium. Basic techniques such as washes\, wet on wet and dry brush will be explored individually and through group discussions.
URL:https://www.nsnh.bc.ca/activity/watercolor-exploration-1-mon-10am-1230pm-no-class-may-18/2026-04-20/
LOCATION:JBCC: Art Studio\, 145 W 1st St\, North Vancouver\, BC\, V7M 1B1\, Canada
CATEGORIES:Seniors
ATTACH;FMTTYPE=image/avif:https://www.nsnh.bc.ca/wp-content/uploads/2025/02/photo-1621610695731-6551244a6489-scaled.avif
ORGANIZER;CN="Tooka Hashemi":MAILTO:seniors@nsnh.bc.ca
END:VEVENT
BEGIN:VEVENT
DTSTART;TZID=America/Vancouver:20260420T093000
DTEND;TZID=America/Vancouver:20260420T113000
DTSTAMP:20260422T051520
CREATED:20260302T205817Z
LAST-MODIFIED:20260302T205817Z
UID:10007182-1776677400-1776684600@www.nsnh.bc.ca
SUMMARY:Bridge Beginner to Intermediate | Mon 9:30-11:30am | No Class May 18
DESCRIPTION:Learn how to play or advance your bridge game with tips and strategies for better play.
URL:https://www.nsnh.bc.ca/activity/bridge-beginner-to-intermediate-mon-930-1130am-no-class-may-18/2026-04-20/
LOCATION:JBCC: Discovery Room\, 145 W 1st St\, North Vancouver\, BC\, V7M 1B1\, Canada
CATEGORIES:Seniors
ATTACH;FMTTYPE=image/avif:https://www.nsnh.bc.ca/wp-content/uploads/2024/11/photo-1719937076067-0f55ceb3134a.avif
ORGANIZER;CN="Tooka Hashemi":MAILTO:seniors@nsnh.bc.ca
END:VEVENT
BEGIN:VEVENT
DTSTART;TZID=America/Vancouver:20260417T093000
DTEND;TZID=America/Vancouver:20260417T103000
DTSTAMP:20260422T051520
CREATED:20260302T205817Z
LAST-MODIFIED:20260313T174740Z
UID:10007170-1776418200-1776421800@www.nsnh.bc.ca
SUMMARY:Line Dancing Fri 9:30 to10:30am
DESCRIPTION:Join our Line Dancing class to learn simple\, fun dance moves. Stay active\, improve balance\, and socialize in a friendly environment.
URL:https://www.nsnh.bc.ca/activity/line-dancing-fri-930-to1030am-2/2026-04-17/
LOCATION:JBCC: Anchor Room\, 145 W 1st St\, North Vancouver\, BC\, V7M 1B1\, Canada
CATEGORIES:Seniors
ATTACH;FMTTYPE=image/jpeg:https://www.nsnh.bc.ca/wp-content/uploads/2026/02/Line-Dancing-scaled.jpg
ORGANIZER;CN="Tooka Hashemi":MAILTO:seniors@nsnh.bc.ca
END:VEVENT
BEGIN:VEVENT
DTSTART;TZID=America/Vancouver:20260416T104500
DTEND;TZID=America/Vancouver:20260416T121500
DTSTAMP:20260422T051520
CREATED:20260302T205817Z
LAST-MODIFIED:20260302T205817Z
UID:10007491-1776336300-1776341700@www.nsnh.bc.ca
SUMMARY:Osteofit # 3 | Thu12:45-1:45pm
DESCRIPTION:This fall prevention program for participants with no experience focuses on techniques to help improve muscle strength\, bone health\, joint flexibility\, posture\, and stability. It includes functional movements\, agility activities\, resistance training\, and stretches. The Osteofit program is suitable for those with arthritis\, osteoporosis\, and those at risk of falls and fractures.
URL:https://www.nsnh.bc.ca/activity/osteofit-3-thu1245-145pm/2026-04-16/
LOCATION:JBCC: Anchor Room\, 145 W 1st St\, North Vancouver\, BC\, V7M 1B1\, Canada
CATEGORIES:Seniors
ATTACH;FMTTYPE=image/jpeg:https://www.nsnh.bc.ca/wp-content/uploads/2026/02/J-Osteofit1-scaled.jpg
ORGANIZER;CN="Tooka Hashemi":MAILTO:seniors@nsnh.bc.ca
END:VEVENT
BEGIN:VEVENT
DTSTART;TZID=America/Vancouver:20260415T110000
DTEND;TZID=America/Vancouver:20260415T120000
DTSTAMP:20260422T051520
CREATED:20260302T205817Z
LAST-MODIFIED:20260302T205817Z
UID:10007503-1776250800-1776254400@www.nsnh.bc.ca
SUMMARY:Balance and Mobility Exercises | Wed 11am-12pm
DESCRIPTION:This class is designed to keep you active\, strong\, and independent\, to prevent injuries\, and increase your energy levels. Every session starts with a gentle warm-up and mild cardio\, followed by balance\, mobility\, and strength exercises\, and ends with a gentle stretch.
URL:https://www.nsnh.bc.ca/activity/balance-and-mobility-exercises-wed-11am-12pm/2026-04-15/
LOCATION:JBCC: Anchor Room\, 145 W 1st St\, North Vancouver\, BC\, V7M 1B1\, Canada
CATEGORIES:Seniors
ATTACH;FMTTYPE=image/jpeg:https://www.nsnh.bc.ca/wp-content/uploads/2025/02/photo-1558620366-bb049bcf9a75.jpg
ORGANIZER;CN="Tooka Hashemi":MAILTO:seniors@nsnh.bc.ca
END:VEVENT
BEGIN:VEVENT
DTSTART;TZID=America/Vancouver:20260413T104500
DTEND;TZID=America/Vancouver:20260413T121500
DTSTAMP:20260422T051520
CREATED:20260302T205817Z
LAST-MODIFIED:20260302T205817Z
UID:10007211-1776077100-1776082500@www.nsnh.bc.ca
SUMMARY:Gentle Yoga #2 | Mon 10:45am -12:15pm | No Class on Apr 20\, May 18 & 25
DESCRIPTION:A healing Hatha yoga class that combines breathing awareness with gentle movement. Excellent for opening the joints\, easing tension and calming the mind. Please bring a mat.
URL:https://www.nsnh.bc.ca/activity/gentle-yoga-2-mon-1045am-1215pm-no-class-on-apr-20-may-18-25/2026-04-13/
LOCATION:JBCC: Anchor Room\, 145 W 1st St\, North Vancouver\, BC\, V7M 1B1\, Canada
CATEGORIES:Seniors
ATTACH;FMTTYPE=image/jpeg:https://www.nsnh.bc.ca/wp-content/uploads/2025/07/yoga-1.jpg
ORGANIZER;CN="Tooka Hashemi":MAILTO:seniors@nsnh.bc.ca
END:VEVENT
BEGIN:VEVENT
DTSTART;TZID=America/Vancouver:20260413T090000
DTEND;TZID=America/Vancouver:20260413T103000
DTSTAMP:20260422T051520
CREATED:20260302T205817Z
LAST-MODIFIED:20260302T205817Z
UID:10007201-1776070800-1776076200@www.nsnh.bc.ca
SUMMARY:Gentle Yoga #1 | Mon 9-10:30am | No Class on Apr 20\, May 18 & 25
DESCRIPTION:A healing Hatha yoga class that combines breathing awareness with gentle movement. Excellent for opening the joints\, easing tension and calming the mind. Please bring a mat.
URL:https://www.nsnh.bc.ca/activity/gentle-yoga-1-mon-9-1030am-no-class-on-apr-20-may-18-25/2026-04-13/
LOCATION:JBCC: Anchor Room\, 145 W 1st St\, North Vancouver\, BC\, V7M 1B1\, Canada
CATEGORIES:Seniors
ATTACH;FMTTYPE=image/jpeg:https://www.nsnh.bc.ca/wp-content/uploads/2025/07/Yoga-3-Copy.jpg
ORGANIZER;CN="Tooka Hashemi":MAILTO:seniors@nsnh.bc.ca
END:VEVENT
BEGIN:VEVENT
DTSTART;TZID=America/Vancouver:20260409T104500
DTEND;TZID=America/Vancouver:20260409T121500
DTSTAMP:20260422T051520
CREATED:20260302T215437Z
LAST-MODIFIED:20260302T215437Z
UID:10007221-1775731500-1775736900@www.nsnh.bc.ca
SUMMARY:Gentle Yoga #3 | Thu 10:45am -12:15pm | No Class on Apr 16 & May 28
DESCRIPTION:A healing Hatha yoga class that combines breathing awareness with gentle movement. Excellent for opening the joints\, easing tension and calming the mind. Please bring a mat
URL:https://www.nsnh.bc.ca/activity/gentle-yoga-3-thu-1045am-1215pm-no-class-on-apr-16-may-28/2026-04-09/
LOCATION:JBCC: Anchor Room\, 145 W 1st St\, North Vancouver\, BC\, V7M 1B1\, Canada
CATEGORIES:Seniors
ATTACH;FMTTYPE=image/jpeg:https://www.nsnh.bc.ca/wp-content/uploads/2025/07/Yoga-2-Copy.jpg
ORGANIZER;CN="Tooka Hashemi":MAILTO:seniors@nsnh.bc.ca
END:VEVENT
BEGIN:VEVENT
DTSTART;TZID=America/Vancouver:20260409T093000
DTEND;TZID=America/Vancouver:20260409T103000
DTSTAMP:20260422T051520
CREATED:20260302T215238Z
LAST-MODIFIED:20260302T215238Z
UID:10007526-1775727000-1775730600@www.nsnh.bc.ca
SUMMARY:Tai Chi Yang Style | Thu 9:30-10:30am | No Class on Apr 16 & May 28
DESCRIPTION:This class will introduce the basic principles and movements of Tai Chi. Simple and easy to learn\, yet requiring mindfulness\, you will learn all the basic postures\, correct alignment\, terms\, and movements.
URL:https://www.nsnh.bc.ca/activity/tai-chi-yang-style-thu-930-1030am-no-class-on-apr-16-may-28/2026-04-09/
LOCATION:JBCC: Anchor Room\, 145 W 1st St\, North Vancouver\, BC\, V7M 1B1\, Canada
CATEGORIES:Seniors
ATTACH;FMTTYPE=image/jpeg:https://www.nsnh.bc.ca/wp-content/uploads/2025/08/Tai-Chi-scaled.jpg
ORGANIZER;CN="Tooka Hashemi":MAILTO:seniors@nsnh.bc.ca
END:VEVENT
BEGIN:VEVENT
DTSTART;TZID=America/Vancouver:20260327T093000
DTEND;TZID=America/Vancouver:20260327T223000
DTSTAMP:20260422T051520
CREATED:20251126T003859Z
LAST-MODIFIED:20251126T213212Z
UID:10006784-1774603800-1774650600@www.nsnh.bc.ca
SUMMARY:Line Dancing Fri 9:30 to10:30am
DESCRIPTION:Join our Line Dancing class to learn simple\, fun dance moves. Stay active\, improve balance\, and socialize in a friendly environment.
URL:https://www.nsnh.bc.ca/activity/line-dancing-fri-930-to1030am/2026-03-27/
LOCATION:JBCC: Anchor Room\, 145 W 1st St\, North Vancouver\, BC\, V7M 1B1\, Canada
CATEGORIES:Seniors
ATTACH;FMTTYPE=image/jpeg:https://www.nsnh.bc.ca/wp-content/uploads/2024/11/ardian-lumi-6Woj_wozqmA-unsplash-scaled.jpg
ORGANIZER;CN="Tooka Hashemi":MAILTO:seniors@nsnh.bc.ca
END:VEVENT
BEGIN:VEVENT
DTSTART;TZID=America/Vancouver:20260326T124500
DTEND;TZID=America/Vancouver:20260326T134500
DTSTAMP:20260422T051520
CREATED:20251126T213216Z
LAST-MODIFIED:20251126T213216Z
UID:10006522-1774529100-1774532700@www.nsnh.bc.ca
SUMMARY:Osteofit  Beginner  Thu 12:45 to 1:45pm
DESCRIPTION:This fall prevention program for participants with no experience focuses on techniques to help improve muscle strength\, bone health\, joint flexibility\, posture\, and stability. It includes functional movements\, agility activities\, resistance training\, and stretches. The Osteofit program is suitable for those with arthritis\, osteoporosis\, and those at risk of falls and fractures.
URL:https://www.nsnh.bc.ca/activity/osteofit-beginner-thu-1245-to-145pm/2026-03-26/
LOCATION:JBCC: Anchor Room\, 145 W 1st St\, North Vancouver\, BC\, V7M 1B1\, Canada
CATEGORIES:Seniors
ATTACH;FMTTYPE=image/avif:https://www.nsnh.bc.ca/wp-content/uploads/2024/11/premium_photo-1664536968441-2c68da36ea84-scaled.avif
ORGANIZER;CN="Tooka Hashemi":MAILTO:seniors@nsnh.bc.ca
END:VEVENT
BEGIN:VEVENT
DTSTART;TZID=America/Vancouver:20251219T093000
DTEND;TZID=America/Vancouver:20251219T103000
DTSTAMP:20260422T051520
CREATED:20250812T202910Z
LAST-MODIFIED:20250813T171509Z
UID:10005573-1766136600-1766140200@www.nsnh.bc.ca
SUMMARY:Line Dancing Fridays 9:30-10:30am| Oct 10- Dec 19\, 2025
DESCRIPTION:Join our Line Dancing class to learn simple\, fun dance moves. Stay active\, improve balance\, and socialize in a friendly environment.
URL:https://www.nsnh.bc.ca/activity/line-dancing-fridays-930-1030am-oct-10-dec-19-2025/2025-12-19/
LOCATION:JBCC: Anchor Room\, 145 W 1st St\, North Vancouver\, BC\, V7M 1B1\, Canada
CATEGORIES:Seniors,Seniors Fitness and Health Management
ATTACH;FMTTYPE=image/jpeg:https://www.nsnh.bc.ca/wp-content/uploads/2025/08/Line-Dancing-scaled.jpg
ORGANIZER;CN="Tooka Hashemi":MAILTO:seniors@nsnh.bc.ca
END:VEVENT
END:VCALENDAR