BEGIN:VCALENDAR
VERSION:2.0
PRODID:-//North Shore Neighbourhood House - ECPv6.15.4//NONSGML v1.0//EN
CALSCALE:GREGORIAN
METHOD:PUBLISH
X-WR-CALNAME:North Shore Neighbourhood House
X-ORIGINAL-URL:https://www.nsnh.bc.ca
X-WR-CALDESC:Events for North Shore Neighbourhood House
REFRESH-INTERVAL;VALUE=DURATION:PT1H
X-Robots-Tag:noindex
X-PUBLISHED-TTL:PT1H
BEGIN:VTIMEZONE
TZID:America/Vancouver
BEGIN:DAYLIGHT
TZOFFSETFROM:-0800
TZOFFSETTO:-0700
TZNAME:PDT
DTSTART:20260308T100000
END:DAYLIGHT
BEGIN:STANDARD
TZOFFSETFROM:-0700
TZOFFSETTO:-0800
TZNAME:PST
DTSTART:20261101T090000
END:STANDARD
END:VTIMEZONE
BEGIN:VEVENT
DTSTART;TZID=America/Vancouver:20260430T100000
DTEND;TZID=America/Vancouver:20260430T160000
DTSTAMP:20260420T103828
CREATED:20260302T210036Z
LAST-MODIFIED:20260331T184807Z
UID:10007573-1777543200-1777564800@www.nsnh.bc.ca
SUMMARY:Fort Langley Village | Thu\, April 30 | 10am - 4pm
DESCRIPTION:This historic village located on the banks of the Fraser River\, is widely known as the “Birthplace of BC”.  It’s also home to a variety of vintage and quaint shops and art galleries. Fort Langley is also a frequent filming location for productions\, including Once Upon a Time\, Riverdale\, and The Last of Us. Enjoy lunch (extra cost) at one of many well-known Cafés.  Accessible
URL:https://www.nsnh.bc.ca/activity/fort-langley-village-thu-april-30-10am-4pm/
LOCATION:NSNH\, 225 East 2nd Street\, North Vancouver\, BC\, V7L 1C4\, Canada
CATEGORIES:Seniors,Seniors Bus Trips
ATTACH;FMTTYPE=image/png:https://www.nsnh.bc.ca/wp-content/uploads/2026/02/Apr-30.png
ORGANIZER;CN="Karin Weidner":MAILTO:srsocialprog@nsnh.bc.ca
END:VEVENT
END:VCALENDAR