BEGIN:VCALENDAR
VERSION:2.0
PRODID:-//North Shore Neighbourhood House - ECPv6.15.4//NONSGML v1.0//EN
CALSCALE:GREGORIAN
METHOD:PUBLISH
X-ORIGINAL-URL:https://www.nsnh.bc.ca
X-WR-CALDESC:Events for North Shore Neighbourhood House
REFRESH-INTERVAL;VALUE=DURATION:PT1H
X-Robots-Tag:noindex
X-PUBLISHED-TTL:PT1H
BEGIN:VTIMEZONE
TZID:America/Vancouver
BEGIN:DAYLIGHT
TZOFFSETFROM:-0800
TZOFFSETTO:-0700
TZNAME:PDT
DTSTART:20260308T100000
END:DAYLIGHT
BEGIN:STANDARD
TZOFFSETFROM:-0700
TZOFFSETTO:-0800
TZNAME:PST
DTSTART:20261101T090000
END:STANDARD
END:VTIMEZONE
BEGIN:VEVENT
DTSTART;TZID=America/Vancouver:20260428T090000
DTEND;TZID=America/Vancouver:20260428T103000
DTSTAMP:20260421T165524
CREATED:20260302T205818Z
LAST-MODIFIED:20260302T205818Z
UID:10007406-1777366800-1777372200@www.nsnh.bc.ca
SUMMARY:Spanish Level 1 | Intermediate | Tue 9-10:30am
DESCRIPTION:This class is ideal for seniors who have some basic knowledge of Spanish and want to build on their skills. You’ll expand your vocabulary\, improve your grammar\, and gain confidence in speaking and understanding Spanish in everyday situations. Lessons include conversation practice\, listening exercises\, and interactive activities. Enjoy learning in a supportive and engaging environment!
URL:https://www.nsnh.bc.ca/activity/spanish-level-1-intermediate-tue-9-1030am/2026-04-28/
LOCATION:JBCC: Anchor Room\, 145 W 1st St\, North Vancouver\, BC\, V7M 1B1\, Canada
CATEGORIES:Seniors
ATTACH;FMTTYPE=image/jpeg:https://www.nsnh.bc.ca/wp-content/uploads/2026/02/Spanish-Spring.jpg
ORGANIZER;CN="Tooka Hashemi":MAILTO:seniors@nsnh.bc.ca
END:VEVENT
BEGIN:VEVENT
DTSTART;TZID=America/Vancouver:20260428T100000
DTEND;TZID=America/Vancouver:20260428T123000
DTSTAMP:20260421T165524
CREATED:20260302T205816Z
LAST-MODIFIED:20260302T205816Z
UID:10007313-1777370400-1777379400@www.nsnh.bc.ca
SUMMARY:Watercolor Exploration #2 | Tue 10am -12:30pm
DESCRIPTION:Open to all artistic levels. Learn the methods\, materials and expressive potential of the watercolor medium. Basic techniques such as washes\, wet on wet and dry brush will be explored individually and through group discussions. Background in drawing is required.
URL:https://www.nsnh.bc.ca/activity/watercolor-exploration-2-tue-10am-1230pm/2026-04-28/
LOCATION:JBCC: Art Studio\, 145 W 1st St\, North Vancouver\, BC\, V7M 1B1\, Canada
CATEGORIES:Seniors
ATTACH;FMTTYPE=image/avif:https://www.nsnh.bc.ca/wp-content/uploads/2025/02/photo-1561559679-ee3af236f671-scaled.avif
ORGANIZER;CN="Tooka Hashemi":MAILTO:seniors@nsnh.bc.ca
END:VEVENT
BEGIN:VEVENT
DTSTART;TZID=America/Vancouver:20260428T110000
DTEND;TZID=America/Vancouver:20260428T120000
DTSTAMP:20260421T165524
CREATED:20260302T205818Z
LAST-MODIFIED:20260302T205818Z
UID:10007481-1777374000-1777377600@www.nsnh.bc.ca
SUMMARY:Osteofit #2 | Tue 11am-12pm
DESCRIPTION:This fall prevention program for participants with no experience focuses on techniques to help improve muscle strength\, bone health\, joint flexibility\, posture\, and stability. It includes functional movements\, agility activities\, resistance training\, and stretches. The Osteofit program is suitable for those with arthritis\, osteoporosis\, and those at risk of falls and fractures.
URL:https://www.nsnh.bc.ca/activity/osteofit-2-tue-11am-12pm/2026-04-28/
LOCATION:JBCC: Anchor Room\, 145 W 1st St\, North Vancouver\, BC\, V7M 1B1\, Canada
CATEGORIES:Seniors
ATTACH;FMTTYPE=image/jpeg:https://www.nsnh.bc.ca/wp-content/uploads/2026/02/J-Osteofit-2-1-scaled.jpg
ORGANIZER;CN="Tooka Hashemi":MAILTO:seniors@nsnh.bc.ca
END:VEVENT
BEGIN:VEVENT
DTSTART;TZID=America/Vancouver:20260428T123000
DTEND;TZID=America/Vancouver:20260428T133000
DTSTAMP:20260421T165524
CREATED:20260302T205817Z
LAST-MODIFIED:20260326T183715Z
UID:10007517-1777379400-1777383000@www.nsnh.bc.ca
SUMMARY:Chair Yoga | Tue 12:30-1:30pm
DESCRIPTION:This gentle and accessible class is designed for older adults of all mobility levels. Using a chair for support\, participants will practice seated and standing poses to improve flexibility\, balance\, and strength. The class also includes breathing exercises and relaxation techniques to promote overall well-being and reduce stress. No prior yoga experience is needed.
URL:https://www.nsnh.bc.ca/activity/chair-yoga-tue-1230-130pm/2026-04-28/
LOCATION:JBCC: Anchor Room\, 145 W 1st St\, North Vancouver\, BC\, V7M 1B1\, Canada
CATEGORIES:Seniors
ATTACH;FMTTYPE=image/jpeg:https://www.nsnh.bc.ca/wp-content/uploads/2026/03/Chair-Yoga.jpg
ORGANIZER;CN="Tooka Hashemi":MAILTO:seniors@nsnh.bc.ca
END:VEVENT
BEGIN:VEVENT
DTSTART;TZID=America/Vancouver:20260428T130000
DTEND;TZID=America/Vancouver:20260428T153000
DTSTAMP:20260421T165524
CREATED:20260302T205816Z
LAST-MODIFIED:20260302T205816Z
UID:10007394-1777381200-1777390200@www.nsnh.bc.ca
SUMMARY:Acrylic Painting | All Levels | Tue 1-3:30pm
DESCRIPTION:Create exciting art pieces using different art techniques and a variety of mediums. You will improve your technique through demonstrations and one-on-one instruction.
URL:https://www.nsnh.bc.ca/activity/acrylic-painting-all-levels-tue-1-330pm/2026-04-28/
LOCATION:JBCC: Art Studio\, 145 W 1st St\, North Vancouver\, BC\, V7M 1B1\, Canada
CATEGORIES:Seniors
ATTACH;FMTTYPE=image/jpeg:https://www.nsnh.bc.ca/wp-content/uploads/2026/02/IMG_5011-scaled.jpeg
ORGANIZER;CN="Tooka Hashemi":MAILTO:seniors@nsnh.bc.ca
END:VEVENT
BEGIN:VEVENT
DTSTART;TZID=America/Vancouver:20260430T100000
DTEND;TZID=America/Vancouver:20260430T160000
DTSTAMP:20260421T165524
CREATED:20260302T210036Z
LAST-MODIFIED:20260331T184807Z
UID:10007573-1777543200-1777564800@www.nsnh.bc.ca
SUMMARY:Fort Langley Village | Thu\, April 30 | 10am - 4pm
DESCRIPTION:This historic village located on the banks of the Fraser River\, is widely known as the “Birthplace of BC”.  It’s also home to a variety of vintage and quaint shops and art galleries. Fort Langley is also a frequent filming location for productions\, including Once Upon a Time\, Riverdale\, and The Last of Us. Enjoy lunch (extra cost) at one of many well-known Cafés.  Accessible
URL:https://www.nsnh.bc.ca/activity/fort-langley-village-thu-april-30-10am-4pm/
LOCATION:NSNH\, 225 East 2nd Street\, North Vancouver\, BC\, V7L 1C4\, Canada
CATEGORIES:Seniors,Seniors Bus Trips
ATTACH;FMTTYPE=image/png:https://www.nsnh.bc.ca/wp-content/uploads/2026/02/Apr-30.png
ORGANIZER;CN="Karin Weidner":MAILTO:srsocialprog@nsnh.bc.ca
END:VEVENT
BEGIN:VEVENT
DTSTART;TZID=America/Vancouver:20260507T110000
DTEND;TZID=America/Vancouver:20260507T150000
DTSTAMP:20260421T165524
CREATED:20260302T210105Z
LAST-MODIFIED:20260331T184726Z
UID:10007574-1778151600-1778166000@www.nsnh.bc.ca
SUMMARY:Mother’s Day Lunch at the TEAHOUSE in Stanley Park | Thu\, May 7| 11am-3pm |
DESCRIPTION:Treat yourself to a delicious Mother’s Day lunch (extra cost) at this legendary Stanley Park restaurant – the TEAHOUSE.  Breathtaking views and culinary delights await you at this cheerful spot in the park.  Accessible
URL:https://www.nsnh.bc.ca/activity/mothers-day-lunch-at-the-teahouse-in-stanley-park-thu-may-7-11am-3pm/
LOCATION:NSNH\, 225 East 2nd Street\, North Vancouver\, BC\, V7L 1C4\, Canada
CATEGORIES:Seniors,Seniors Bus Trips
ATTACH;FMTTYPE=image/png:https://www.nsnh.bc.ca/wp-content/uploads/2026/02/May-7.png
ORGANIZER;CN="Karin Weidner":MAILTO:srsocialprog@nsnh.bc.ca
END:VEVENT
BEGIN:VEVENT
DTSTART;TZID=America/Vancouver:20260507T123000
DTEND;TZID=America/Vancouver:20260507T140000
DTSTAMP:20260421T165524
CREATED:20260324T214836Z
LAST-MODIFIED:20260325T190835Z
UID:10007720-1778157000-1778162400@www.nsnh.bc.ca
SUMMARY:Nobody's Perfect | FREE Parenting Program | Thu 12:30 - 2pm | May 7 - June 11
DESCRIPTION:Nobody’s Perfect is a FREE parenting program offered in communities by facilitators to help support parents and young children. \nLearn about your child’s feelings\, behaviours\, body\, and safety as well as sharing what it is like to be a parent. \nSessions are focused on what you and other parents want to learn about\, not step by step from a book. \nPre-requisite: Must be a North Shore resident\, have a child under the age of six\, and be committed to attending all six weeks of the program. \nPlease register one parent\, and indicate the number of family members who will attend.
URL:https://www.nsnh.bc.ca/activity/nobodys-perfect-free-parenting-program-thu-1230-2pm-may-7-june-11/2026-05-07/
LOCATION:JBCC – Family Resource Centre\, 145 West 1st Street\, North Vancouver\, British Columbia\, V7L1C4\, Canada
CATEGORIES:Adults,Families
ORGANIZER;CN="Lea Kohli":MAILTO:lkohli@nsnh.bc.ca
END:VEVENT
BEGIN:VEVENT
DTSTART;TZID=America/Vancouver:20260514T100000
DTEND;TZID=America/Vancouver:20260514T150000
DTSTAMP:20260421T165524
CREATED:20260302T210117Z
LAST-MODIFIED:20260331T184617Z
UID:10007575-1778752800-1778770800@www.nsnh.bc.ca
SUMMARY:Granville Island | Thu\, May 14	| 10am-3pm |
DESCRIPTION:Granville Island is a favorite for locals and visitors. And the Granville Island Public Market is the jewel in the Island’s crown.  This indoor market is packed with shops and stalls featuring sought-after specialty goods like fresh-caught seafood\, world-famous donuts\, and artisanal charcuterie. Granville Island restaurants also offer delicious dining options (extra cost).  Accessible
URL:https://www.nsnh.bc.ca/activity/granville-island-thu-may-14-10am-3pm/
LOCATION:NSNH\, 225 East 2nd Street\, North Vancouver\, BC\, V7L 1C4\, Canada
CATEGORIES:Seniors,Seniors Bus Trips
ATTACH;FMTTYPE=image/png:https://www.nsnh.bc.ca/wp-content/uploads/2026/02/May-14.png
ORGANIZER;CN="Karin Weidner":MAILTO:srsocialprog@nsnh.bc.ca
END:VEVENT
BEGIN:VEVENT
DTSTART;TZID=America/Vancouver:20260521T103000
DTEND;TZID=America/Vancouver:20260521T150000
DTSTAMP:20260421T165524
CREATED:20260302T210129Z
LAST-MODIFIED:20260331T184532Z
UID:10007576-1779359400-1779375600@www.nsnh.bc.ca
SUMMARY:Osprey Village | Thu\, May 21 | 10:30am-3pm |
DESCRIPTION:Visit beautiful Osprey Village located on the Fraser River in Pitt Meadows. First\, you’ll enjoy lunch (extra cost) at the Stomping House Café and Bistro\, then explore the quaint shops along Sawyer’s Landing.  Accessible
URL:https://www.nsnh.bc.ca/activity/osprey-village-thu-may-21-1030am-3pm/
LOCATION:NSNH\, 225 East 2nd Street\, North Vancouver\, BC\, V7L 1C4\, Canada
CATEGORIES:Seniors,Seniors Bus Trips
ATTACH;FMTTYPE=image/png:https://www.nsnh.bc.ca/wp-content/uploads/2026/02/May-21.png
ORGANIZER;CN="Karin Weidner":MAILTO:srsocialprog@nsnh.bc.ca
END:VEVENT
BEGIN:VEVENT
DTSTART;TZID=America/Vancouver:20260528T090000
DTEND;TZID=America/Vancouver:20260528T170000
DTSTAMP:20260421T165524
CREATED:20260302T210141Z
LAST-MODIFIED:20260331T184451Z
UID:10007577-1779958800-1779987600@www.nsnh.bc.ca
SUMMARY:Bowen Island | Thu\, May 28 | 9am-5pm |
DESCRIPTION:The bus will take you right to Snug Cove on Bowen Island (a 20-minute ferry ride).  Enjoy lunch (extra cost) at one of the local restaurants\, visit the Bowen Island Museum and Archives\, or explore the Island’s hidden gems.  Partially Accessible
URL:https://www.nsnh.bc.ca/activity/bowen-island-thu-may-28-9am-5pm/
LOCATION:NSNH\, 225 East 2nd Street\, North Vancouver\, BC\, V7L 1C4\, Canada
CATEGORIES:Seniors,Seniors Bus Trips
ATTACH;FMTTYPE=image/png:https://www.nsnh.bc.ca/wp-content/uploads/2026/02/May-28.png
ORGANIZER;CN="Karin Weidner":MAILTO:srsocialprog@nsnh.bc.ca
END:VEVENT
BEGIN:VEVENT
DTSTART;TZID=America/Vancouver:20260604T093000
DTEND;TZID=America/Vancouver:20260604T150000
DTSTAMP:20260421T165524
CREATED:20260302T210159Z
LAST-MODIFIED:20260331T184405Z
UID:10007578-1780565400-1780585200@www.nsnh.bc.ca
SUMMARY:Burnaby Village Museum & Picnic in the Park | Thu\, June 4 | 9:30am-3pm |
DESCRIPTION:Price includes Lunch.\nTake a stroll through this reconstructed 1920s village with over 30 heritage and replica buildings\, then enjoy a lovely picnic lunch (included).  In case of rain\, you’ll dine at the newly renovated Mai’s Café located inside the Museum.  Partially Accessible
URL:https://www.nsnh.bc.ca/activity/burnaby-village-museum-picnic-in-the-park-thu-june-4-930am-3pm/
LOCATION:NSNH\, 225 East 2nd Street\, North Vancouver\, BC\, V7L 1C4\, Canada
CATEGORIES:Seniors,Seniors Bus Trips
ATTACH;FMTTYPE=image/png:https://www.nsnh.bc.ca/wp-content/uploads/2026/02/June-4.png
ORGANIZER;CN="Karin Weidner":MAILTO:srsocialprog@nsnh.bc.ca
END:VEVENT
BEGIN:VEVENT
DTSTART;TZID=America/Vancouver:20260611T100000
DTEND;TZID=America/Vancouver:20260611T160000
DTSTAMP:20260421T165524
CREATED:20260302T210211Z
LAST-MODIFIED:20260331T184324Z
UID:10007579-1781172000-1781193600@www.nsnh.bc.ca
SUMMARY:Raptor’s Ridge Birds of Prey | Thu\, June 11	| 10am-4pm |
DESCRIPTION:Price includes Educational Program. \nWhile visiting Raptors Ridge in Maple Ridge\, you will see 5 to 6 different raptors\, flying demos\, and a walk in the woods. This is a rare and unique opportunity to view Birds of Prey through a true educational experience.  Brunch (extra cost) is at the Home Restaurant. Partially Accessible
URL:https://www.nsnh.bc.ca/activity/raptors-ridge-birds-of-prey-thu-june-11-10am-4pm/
LOCATION:NSNH\, 225 East 2nd Street\, North Vancouver\, BC\, V7L 1C4\, Canada
CATEGORIES:Seniors,Seniors Bus Trips
ATTACH;FMTTYPE=image/jpeg:https://www.nsnh.bc.ca/wp-content/uploads/2026/02/Raptors-Ridge-Birds-of-Prey-1.jpg
ORGANIZER;CN="Karin Weidner":MAILTO:srsocialprog@nsnh.bc.ca
END:VEVENT
BEGIN:VEVENT
DTSTART;TZID=America/Vancouver:20260618T100000
DTEND;TZID=America/Vancouver:20260618T160000
DTSTAMP:20260421T165524
CREATED:20260302T210222Z
LAST-MODIFIED:20260331T184242Z
UID:10007580-1781776800-1781798400@www.nsnh.bc.ca
SUMMARY:Squamish Canyon | Thu\, June 18 | 10am-4pm |
DESCRIPTION:Price includes Admission and Guided Tour. \nSquamish Canyon is located near Mamquam Falls in Squamish.  This new eco-attraction features a 1.5 km to 1.7 km elevated boardwalk that winds through a coastal rainforest\, providing safe\, high-level views of the canyon and waterfalls. Lunch (extra cost) is at the Forest Lounge. The Boardwalk includes about 80 stairs.   Not Accessible
URL:https://www.nsnh.bc.ca/activity/squamish-canyon-thu-june-18-10am-4pm/
LOCATION:NSNH\, 225 East 2nd Street\, North Vancouver\, BC\, V7L 1C4\, Canada
CATEGORIES:Seniors,Seniors Bus Trips
ATTACH;FMTTYPE=image/jpeg:https://www.nsnh.bc.ca/wp-content/uploads/2026/02/Squamish.jpg
ORGANIZER;CN="Karin Weidner":MAILTO:srsocialprog@nsnh.bc.ca
END:VEVENT
BEGIN:VEVENT
DTSTART;TZID=America/Vancouver:20260625T100000
DTEND;TZID=America/Vancouver:20260625T150000
DTSTAMP:20260421T165524
CREATED:20260302T210234Z
LAST-MODIFIED:20260331T184201Z
UID:10007581-1782381600-1782399600@www.nsnh.bc.ca
SUMMARY:Dundarave Village | Thu\, June 25 | 10am-3pm |
DESCRIPTION:Dundarave Village is a charming\, walkable seaside neighborhood in West Vancouver.  It is a relaxed dining and shopping destination\, and is known for quaint boutiques\, cozy cafes\, and local restaurants. Enjoy lunch (extra cost) at the Bakehouse or the Beach House or stroll along the Seawall and enjoy the views. Accessible
URL:https://www.nsnh.bc.ca/activity/dundarave-village-thu-june-25-10am-3pm/
LOCATION:NSNH\, 225 East 2nd Street\, North Vancouver\, BC\, V7L 1C4\, Canada
CATEGORIES:Seniors,Seniors Bus Trips
ATTACH;FMTTYPE=image/png:https://www.nsnh.bc.ca/wp-content/uploads/2026/02/June-25.png
ORGANIZER;CN="Karin Weidner":MAILTO:srsocialprog@nsnh.bc.ca
END:VEVENT
BEGIN:VEVENT
DTSTART;TZID=America/Vancouver:20260626T113000
DTEND;TZID=America/Vancouver:20260626T130000
DTSTAMP:20260421T165524
CREATED:20260302T205816Z
LAST-MODIFIED:20260331T184110Z
UID:10007538-1782473400-1782478800@www.nsnh.bc.ca
SUMMARY:Canada Day Lunch | Fri June 26 | 11:30am- 1pm
DESCRIPTION:Join us in celebrating Canada Day with a festive lunch and fun activities. \n 
URL:https://www.nsnh.bc.ca/activity/canada-day-lunch-fri-june-26-1130am-1pm/
LOCATION:JBCC: Anchor Room\, 145 W 1st St\, North Vancouver\, BC\, V7M 1B1\, Canada
CATEGORIES:Seniors
ATTACH;FMTTYPE=image/jpeg:https://www.nsnh.bc.ca/wp-content/uploads/2025/02/IMG_9023-scaled.jpg
ORGANIZER;CN="Tooka Hashemi":MAILTO:seniors@nsnh.bc.ca
END:VEVENT
END:VCALENDAR