BEGIN:VCALENDAR
VERSION:2.0
PRODID:-//North Shore Neighbourhood House - ECPv6.15.4//NONSGML v1.0//EN
CALSCALE:GREGORIAN
METHOD:PUBLISH
X-WR-CALNAME:North Shore Neighbourhood House
X-ORIGINAL-URL:https://www.nsnh.bc.ca
X-WR-CALDESC:Events for North Shore Neighbourhood House
REFRESH-INTERVAL;VALUE=DURATION:PT1H
X-Robots-Tag:noindex
X-PUBLISHED-TTL:PT1H
BEGIN:VTIMEZONE
TZID:America/Vancouver
BEGIN:DAYLIGHT
TZOFFSETFROM:-0800
TZOFFSETTO:-0700
TZNAME:PDT
DTSTART:20260308T100000
END:DAYLIGHT
BEGIN:STANDARD
TZOFFSETFROM:-0700
TZOFFSETTO:-0800
TZNAME:PST
DTSTART:20261101T090000
END:STANDARD
END:VTIMEZONE
BEGIN:VEVENT
DTSTART;TZID=America/Vancouver:20260307T103000
DTEND;TZID=America/Vancouver:20260307T233000
DTSTAMP:20260423T072351
CREATED:20241231T183208Z
LAST-MODIFIED:20250819T204538Z
UID:10004183-1772879400-1772926200@www.nsnh.bc.ca
SUMMARY:Drop In Step Class
DESCRIPTION:This class involves traditional step choreography. Different levels of intensity are provided to ensure everyone gets the most out of their Step workout.  Class ends with a thorough cool-down and stretch.  Time:  10:30-11:30am  Drop in: $8.00 Pay at Front Desk \nNo Step classes for the month of December\, will resume January 4th 2025
URL:https://www.nsnh.bc.ca/activity/drop-in-step-class-2/2026-03-07/
LOCATION:NSNH: Gym\, 225 East 2nd Street\, North Vancouver\, BC\, V7L 1C4\, Canada
CATEGORIES:Adults
ORGANIZER;CN="Christine Cameron":MAILTO:cpoole@nsnh.bc.ca
END:VEVENT
BEGIN:VEVENT
DTSTART;TZID=America/Vancouver:20260314T103000
DTEND;TZID=America/Vancouver:20260314T233000
DTSTAMP:20260423T072351
CREATED:20241231T183208Z
LAST-MODIFIED:20250819T204538Z
UID:10004184-1773484200-1773531000@www.nsnh.bc.ca
SUMMARY:Drop In Step Class
DESCRIPTION:This class involves traditional step choreography. Different levels of intensity are provided to ensure everyone gets the most out of their Step workout.  Class ends with a thorough cool-down and stretch.  Time:  10:30-11:30am  Drop in: $8.00 Pay at Front Desk \nNo Step classes for the month of December\, will resume January 4th 2025
URL:https://www.nsnh.bc.ca/activity/drop-in-step-class-2/2026-03-14/
LOCATION:NSNH: Gym\, 225 East 2nd Street\, North Vancouver\, BC\, V7L 1C4\, Canada
CATEGORIES:Adults
ORGANIZER;CN="Christine Cameron":MAILTO:cpoole@nsnh.bc.ca
END:VEVENT
BEGIN:VEVENT
DTSTART;TZID=America/Vancouver:20260321T103000
DTEND;TZID=America/Vancouver:20260321T233000
DTSTAMP:20260423T072351
CREATED:20241231T183208Z
LAST-MODIFIED:20250819T204538Z
UID:10004185-1774089000-1774135800@www.nsnh.bc.ca
SUMMARY:Drop In Step Class
DESCRIPTION:This class involves traditional step choreography. Different levels of intensity are provided to ensure everyone gets the most out of their Step workout.  Class ends with a thorough cool-down and stretch.  Time:  10:30-11:30am  Drop in: $8.00 Pay at Front Desk \nNo Step classes for the month of December\, will resume January 4th 2025
URL:https://www.nsnh.bc.ca/activity/drop-in-step-class-2/2026-03-21/
LOCATION:NSNH: Gym\, 225 East 2nd Street\, North Vancouver\, BC\, V7L 1C4\, Canada
CATEGORIES:Adults
ORGANIZER;CN="Christine Cameron":MAILTO:cpoole@nsnh.bc.ca
END:VEVENT
BEGIN:VEVENT
DTSTART;TZID=America/Vancouver:20260328T093000
DTEND;TZID=America/Vancouver:20260328T110000
DTSTAMP:20260423T072351
CREATED:20251126T001037Z
LAST-MODIFIED:20260319T225652Z
UID:10006877-1774690200-1774695600@www.nsnh.bc.ca
SUMMARY:Easter Bunny Breakfast | Sat Mar 28 9:30 to 11am
DESCRIPTION:Come have Breakfast!  Enjoy a pancake breakfast with sausages\, fruit\, juice and Tea/Coffee.  Afterwards there’ll be an Easter Egg Hunt with the Easter Bunny. Kids will love our craft table.  Please pre-register as space is limited. \nNo tickets at the door. 
URL:https://www.nsnh.bc.ca/activity/easter-bunny-breakfast-sat-mar-28-930-to-11am/
LOCATION:NSNH – Inman Room
CATEGORIES:Adults,Children,Families
ATTACH;FMTTYPE=image/jpeg:https://www.nsnh.bc.ca/wp-content/uploads/2025/02/easter-bunny-breakfast-2024.jpg
ORGANIZER;CN="Christine Cameron":MAILTO:cpoole@nsnh.bc.ca
END:VEVENT
BEGIN:VEVENT
DTSTART;TZID=America/Vancouver:20260328T103000
DTEND;TZID=America/Vancouver:20260328T233000
DTSTAMP:20260423T072351
CREATED:20241231T183208Z
LAST-MODIFIED:20250819T204538Z
UID:10004186-1774693800-1774740600@www.nsnh.bc.ca
SUMMARY:Drop In Step Class
DESCRIPTION:This class involves traditional step choreography. Different levels of intensity are provided to ensure everyone gets the most out of their Step workout.  Class ends with a thorough cool-down and stretch.  Time:  10:30-11:30am  Drop in: $8.00 Pay at Front Desk \nNo Step classes for the month of December\, will resume January 4th 2025
URL:https://www.nsnh.bc.ca/activity/drop-in-step-class-2/2026-03-28/
LOCATION:NSNH: Gym\, 225 East 2nd Street\, North Vancouver\, BC\, V7L 1C4\, Canada
CATEGORIES:Adults
ORGANIZER;CN="Christine Cameron":MAILTO:cpoole@nsnh.bc.ca
END:VEVENT
END:VCALENDAR