BEGIN:VCALENDAR
VERSION:2.0
PRODID:-//North Shore Neighbourhood House - ECPv6.15.4//NONSGML v1.0//EN
CALSCALE:GREGORIAN
METHOD:PUBLISH
X-ORIGINAL-URL:https://www.nsnh.bc.ca
X-WR-CALDESC:Events for North Shore Neighbourhood House
REFRESH-INTERVAL;VALUE=DURATION:PT1H
X-Robots-Tag:noindex
X-PUBLISHED-TTL:PT1H
BEGIN:VTIMEZONE
TZID:America/Vancouver
BEGIN:DAYLIGHT
TZOFFSETFROM:-0800
TZOFFSETTO:-0700
TZNAME:PDT
DTSTART:20260308T100000
END:DAYLIGHT
BEGIN:STANDARD
TZOFFSETFROM:-0700
TZOFFSETTO:-0800
TZNAME:PST
DTSTART:20261101T090000
END:STANDARD
END:VTIMEZONE
BEGIN:VEVENT
DTSTART;TZID=America/Vancouver:20260207T103000
DTEND;TZID=America/Vancouver:20260207T233000
DTSTAMP:20260423T111628
CREATED:20241231T183208Z
LAST-MODIFIED:20250819T204538Z
UID:10004179-1770460200-1770507000@www.nsnh.bc.ca
SUMMARY:Drop In Step Class
DESCRIPTION:This class involves traditional step choreography. Different levels of intensity are provided to ensure everyone gets the most out of their Step workout.  Class ends with a thorough cool-down and stretch.  Time:  10:30-11:30am  Drop in: $8.00 Pay at Front Desk \nNo Step classes for the month of December\, will resume January 4th 2025
URL:https://www.nsnh.bc.ca/activity/drop-in-step-class-2/2026-02-07/
LOCATION:NSNH: Gym\, 225 East 2nd Street\, North Vancouver\, BC\, V7L 1C4\, Canada
CATEGORIES:Adults
ORGANIZER;CN="Christine Cameron":MAILTO:cpoole@nsnh.bc.ca
END:VEVENT
BEGIN:VEVENT
DTSTART;TZID=America/Vancouver:20260214T103000
DTEND;TZID=America/Vancouver:20260214T233000
DTSTAMP:20260423T111628
CREATED:20241231T183208Z
LAST-MODIFIED:20250819T204538Z
UID:10004180-1771065000-1771111800@www.nsnh.bc.ca
SUMMARY:Drop In Step Class
DESCRIPTION:This class involves traditional step choreography. Different levels of intensity are provided to ensure everyone gets the most out of their Step workout.  Class ends with a thorough cool-down and stretch.  Time:  10:30-11:30am  Drop in: $8.00 Pay at Front Desk \nNo Step classes for the month of December\, will resume January 4th 2025
URL:https://www.nsnh.bc.ca/activity/drop-in-step-class-2/2026-02-14/
LOCATION:NSNH: Gym\, 225 East 2nd Street\, North Vancouver\, BC\, V7L 1C4\, Canada
CATEGORIES:Adults
ORGANIZER;CN="Christine Cameron":MAILTO:cpoole@nsnh.bc.ca
END:VEVENT
BEGIN:VEVENT
DTSTART;TZID=America/Vancouver:20260221T103000
DTEND;TZID=America/Vancouver:20260221T233000
DTSTAMP:20260423T111628
CREATED:20241231T183208Z
LAST-MODIFIED:20250819T204538Z
UID:10004181-1771669800-1771716600@www.nsnh.bc.ca
SUMMARY:Drop In Step Class
DESCRIPTION:This class involves traditional step choreography. Different levels of intensity are provided to ensure everyone gets the most out of their Step workout.  Class ends with a thorough cool-down and stretch.  Time:  10:30-11:30am  Drop in: $8.00 Pay at Front Desk \nNo Step classes for the month of December\, will resume January 4th 2025
URL:https://www.nsnh.bc.ca/activity/drop-in-step-class-2/2026-02-21/
LOCATION:NSNH: Gym\, 225 East 2nd Street\, North Vancouver\, BC\, V7L 1C4\, Canada
CATEGORIES:Adults
ORGANIZER;CN="Christine Cameron":MAILTO:cpoole@nsnh.bc.ca
END:VEVENT
BEGIN:VEVENT
DTSTART;TZID=America/Vancouver:20260228T103000
DTEND;TZID=America/Vancouver:20260228T233000
DTSTAMP:20260423T111628
CREATED:20241231T183208Z
LAST-MODIFIED:20250819T204538Z
UID:10004182-1772274600-1772321400@www.nsnh.bc.ca
SUMMARY:Drop In Step Class
DESCRIPTION:This class involves traditional step choreography. Different levels of intensity are provided to ensure everyone gets the most out of their Step workout.  Class ends with a thorough cool-down and stretch.  Time:  10:30-11:30am  Drop in: $8.00 Pay at Front Desk \nNo Step classes for the month of December\, will resume January 4th 2025
URL:https://www.nsnh.bc.ca/activity/drop-in-step-class-2/2026-02-28/
LOCATION:NSNH: Gym\, 225 East 2nd Street\, North Vancouver\, BC\, V7L 1C4\, Canada
CATEGORIES:Adults
ORGANIZER;CN="Christine Cameron":MAILTO:cpoole@nsnh.bc.ca
END:VEVENT
END:VCALENDAR